BEGIN:VCALENDAR
VERSION:2.0
PRODID:-//Springfield Area Parent Child Center - ECPv6.15.20//NONSGML v1.0//EN
CALSCALE:GREGORIAN
METHOD:PUBLISH
X-WR-CALNAME:Springfield Area Parent Child Center
X-ORIGINAL-URL:https://sapcc-vt.org
X-WR-CALDESC:Events for Springfield Area Parent Child Center
REFRESH-INTERVAL;VALUE=DURATION:PT1H
X-Robots-Tag:noindex
X-PUBLISHED-TTL:PT1H
BEGIN:VTIMEZONE
TZID:America/New_York
BEGIN:DAYLIGHT
TZOFFSETFROM:-0500
TZOFFSETTO:-0400
TZNAME:EDT
DTSTART:20250309T070000
END:DAYLIGHT
BEGIN:STANDARD
TZOFFSETFROM:-0400
TZOFFSETTO:-0500
TZNAME:EST
DTSTART:20251102T060000
END:STANDARD
BEGIN:DAYLIGHT
TZOFFSETFROM:-0500
TZOFFSETTO:-0400
TZNAME:EDT
DTSTART:20260308T070000
END:DAYLIGHT
BEGIN:STANDARD
TZOFFSETFROM:-0400
TZOFFSETTO:-0500
TZNAME:EST
DTSTART:20261101T060000
END:STANDARD
BEGIN:DAYLIGHT
TZOFFSETFROM:-0500
TZOFFSETTO:-0400
TZNAME:EDT
DTSTART:20270314T070000
END:DAYLIGHT
BEGIN:STANDARD
TZOFFSETFROM:-0400
TZOFFSETTO:-0500
TZNAME:EST
DTSTART:20271107T060000
END:STANDARD
END:VTIMEZONE
BEGIN:VEVENT
DTSTART;TZID=America/New_York:20260106T080000
DTEND;TZID=America/New_York:20260106T170000
DTSTAMP:20260423T233147
CREATED:20260106T170413Z
LAST-MODIFIED:20260106T170907Z
UID:10001213-1767686400-1767718800@sapcc-vt.org
SUMMARY:SAPCC January Food Drive
DESCRIPTION:
URL:https://sapcc-vt.org/event/sapcc-january-food-drive-2/2026-01-06/
LOCATION:VT
CATEGORIES:Upcoming Events
ATTACH;FMTTYPE=image/jpeg:https://sapcc-vt.org/wp-content/uploads/2026/01/food-drive-for-website-calendar.jpg
END:VEVENT
BEGIN:VEVENT
DTSTART;TZID=America/New_York:20260106T100000
DTEND;TZID=America/New_York:20260106T113000
DTSTAMP:20260423T233147
CREATED:20251210T182046Z
LAST-MODIFIED:20260127T200453Z
UID:10001124-1767693600-1767699000@sapcc-vt.org
SUMMARY:MOVE & PLAY All Winter Long!
DESCRIPTION:Move & Play All Winter Long! \nSAPCC invites you and your family to join Early Intervention Physical Therapist Annalise Lawrence for an interactive workshop designed to help families support children’s gross motor and sensory needs during the long winter months when outdoor time is limited. \nIn this workshop\, you will learn how to:\n• Use everyday household items to encourage movement\n• Support sensory needs at home\n• Help children stay active throughout the day \nJoin us for hands-on activities\, practical tips\, and family-friendly fun! \nDate: Tuesday\, January 6\, 2026 \nTime: 10:00 AM – 11:30 AM \nLocation: 50 Jack & Jill Lane Springfield\, VT in the Community Meeting Room \nREGISTER HERE: https://secure.lglforms.com/form_engine/s/7rqAiMkNKcDUsVbXUJvqEg \n\n\n\nQUESTIONS?\nkrista.wilson@sapcc-vt.org\n802-886-5242
URL:https://sapcc-vt.org/event/move-play-all-winter-long/
LOCATION:SAPCC Community Meeting Room\, 50 Jack and Jill Lane\, North Springfield\, VT\, 05150\, United States
CATEGORIES:Upcoming Events
ATTACH;FMTTYPE=image/jpeg:https://sapcc-vt.org/wp-content/uploads/2025/12/MOVE-PLAY-1920-x-1080-px.jpg
END:VEVENT
END:VCALENDAR