BEGIN:VCALENDAR
VERSION:2.0
PRODID:-//Springfield Area Parent Child Center - ECPv6.15.20//NONSGML v1.0//EN
CALSCALE:GREGORIAN
METHOD:PUBLISH
X-ORIGINAL-URL:https://sapcc-vt.org
X-WR-CALDESC:Events for Springfield Area Parent Child Center
REFRESH-INTERVAL;VALUE=DURATION:PT1H
X-Robots-Tag:noindex
X-PUBLISHED-TTL:PT1H
BEGIN:VTIMEZONE
TZID:America/New_York
BEGIN:DAYLIGHT
TZOFFSETFROM:-0500
TZOFFSETTO:-0400
TZNAME:EDT
DTSTART:20250309T070000
END:DAYLIGHT
BEGIN:STANDARD
TZOFFSETFROM:-0400
TZOFFSETTO:-0500
TZNAME:EST
DTSTART:20251102T060000
END:STANDARD
BEGIN:DAYLIGHT
TZOFFSETFROM:-0500
TZOFFSETTO:-0400
TZNAME:EDT
DTSTART:20260308T070000
END:DAYLIGHT
BEGIN:STANDARD
TZOFFSETFROM:-0400
TZOFFSETTO:-0500
TZNAME:EST
DTSTART:20261101T060000
END:STANDARD
BEGIN:DAYLIGHT
TZOFFSETFROM:-0500
TZOFFSETTO:-0400
TZNAME:EDT
DTSTART:20270314T070000
END:DAYLIGHT
BEGIN:STANDARD
TZOFFSETFROM:-0400
TZOFFSETTO:-0500
TZNAME:EST
DTSTART:20271107T060000
END:STANDARD
END:VTIMEZONE
BEGIN:VEVENT
DTSTART;TZID=America/New_York:20260111T080000
DTEND;TZID=America/New_York:20260111T170000
DTSTAMP:20260423T215635
CREATED:20260106T170413Z
LAST-MODIFIED:20260106T170907Z
UID:10001218-1768118400-1768150800@sapcc-vt.org
SUMMARY:SAPCC January Food Drive
DESCRIPTION:
URL:https://sapcc-vt.org/event/sapcc-january-food-drive-2/2026-01-11/
LOCATION:VT
CATEGORIES:Upcoming Events
ATTACH;FMTTYPE=image/jpeg:https://sapcc-vt.org/wp-content/uploads/2026/01/food-drive-for-website-calendar.jpg
END:VEVENT
BEGIN:VEVENT
DTSTART;TZID=America/New_York:20260111T133000
DTEND;TZID=America/New_York:20260111T153000
DTSTAMP:20260423T215635
CREATED:20250421T123911Z
LAST-MODIFIED:20260330T135352Z
UID:10000576-1768138200-1768145400@sapcc-vt.org
SUMMARY:Sunday Bingo Fundraiser
DESCRIPTION:A family friendly weekly fundraiser event to benefit SAPCC. Open to all. \nDoors open at 12pm\, Bingo begins at 1:30pm.
URL:https://sapcc-vt.org/event/bingo/2026-01-11/
LOCATION:SAPCC Workforce Development & Training Center\, 51 Jack and Jill Lane\, North Springfield\, VT\, 05150\, United States
ATTACH;FMTTYPE=image/jpeg:https://sapcc-vt.org/wp-content/uploads/2025/04/bingo-card.jpg
END:VEVENT
END:VCALENDAR