BEGIN:VCALENDAR
VERSION:2.0
PRODID:-//Springfield Area Parent Child Center - ECPv6.15.20//NONSGML v1.0//EN
CALSCALE:GREGORIAN
METHOD:PUBLISH
X-ORIGINAL-URL:https://sapcc-vt.org
X-WR-CALDESC:Events for Springfield Area Parent Child Center
REFRESH-INTERVAL;VALUE=DURATION:PT1H
X-Robots-Tag:noindex
X-PUBLISHED-TTL:PT1H
BEGIN:VTIMEZONE
TZID:America/New_York
BEGIN:DAYLIGHT
TZOFFSETFROM:-0500
TZOFFSETTO:-0400
TZNAME:EDT
DTSTART:20250309T070000
END:DAYLIGHT
BEGIN:STANDARD
TZOFFSETFROM:-0400
TZOFFSETTO:-0500
TZNAME:EST
DTSTART:20251102T060000
END:STANDARD
BEGIN:DAYLIGHT
TZOFFSETFROM:-0500
TZOFFSETTO:-0400
TZNAME:EDT
DTSTART:20260308T070000
END:DAYLIGHT
BEGIN:STANDARD
TZOFFSETFROM:-0400
TZOFFSETTO:-0500
TZNAME:EST
DTSTART:20261101T060000
END:STANDARD
BEGIN:DAYLIGHT
TZOFFSETFROM:-0500
TZOFFSETTO:-0400
TZNAME:EDT
DTSTART:20270314T070000
END:DAYLIGHT
BEGIN:STANDARD
TZOFFSETFROM:-0400
TZOFFSETTO:-0500
TZNAME:EST
DTSTART:20271107T060000
END:STANDARD
END:VTIMEZONE
BEGIN:VEVENT
DTSTART;TZID=America/New_York:20260127T080000
DTEND;TZID=America/New_York:20260127T170000
DTSTAMP:20260423T215413
CREATED:20260106T170413Z
LAST-MODIFIED:20260106T170907Z
UID:10001234-1769500800-1769533200@sapcc-vt.org
SUMMARY:SAPCC January Food Drive
DESCRIPTION:
URL:https://sapcc-vt.org/event/sapcc-january-food-drive-2/2026-01-27/
LOCATION:VT
CATEGORIES:Upcoming Events
ATTACH;FMTTYPE=image/jpeg:https://sapcc-vt.org/wp-content/uploads/2026/01/food-drive-for-website-calendar.jpg
END:VEVENT
BEGIN:VEVENT
DTSTART;TZID=America/New_York:20260127T113000
DTEND;TZID=America/New_York:20260127T130000
DTSTAMP:20260423T215413
CREATED:20260106T183844Z
LAST-MODIFIED:20260112T153536Z
UID:10001239-1769513400-1769518800@sapcc-vt.org
SUMMARY:How To Talk So Little Kids Will Listen
DESCRIPTION:Join us for an interactive\, skills-based workshop hosted by Mental Health Clinician Dominique Rondeau and Family Engagement Specialist Krista Wilson\, based on the book How to Talk So Kids Will Listen & Listen So Kids Will Talk by Joanna Faber and Julie King. \nThis workshop will introduce practical communication tools and structured strategies to help caregivers: \n\nUse effective\, respectful communication to foster cooperation and connection with young children (ages 2–7)\nResolve conflicts more effectively by using problem-solving strategies instead of punishment\nSupport children’s emotional regulation by acknowledging and validating their feelings\nStrengthen parent–child relationships through respectful\, empathetic communication\n\n\nWorkshop Details:\nDates: Tuesdays\, January 27 – February 17\nTime: 11:30 AM – 1:00 PM\nFormat: Virtual\nBonus: Participants will receive a copy of the book upon registration \nThis session is designed to be engaging\, collaborative\, and immediately applicable to everyday parenting challenges. \nQuestions? krista.wilson@sapcc-vt.org or 802-886-5242
URL:https://sapcc-vt.org/event/how-to-talk-so-little-kids-will-listen/
LOCATION:Virtual Event
CATEGORIES:Upcoming Events
ATTACH;FMTTYPE=image/jpeg:https://sapcc-vt.org/wp-content/uploads/2026/01/little-kids-listen-Poster-Square.jpg
END:VEVENT
END:VCALENDAR